BEGIN:VCALENDAR
VERSION:2.0
PRODID:Events Booking
BEGIN:VEVENT
UID:69ea36d44098a
SUMMARY:2026 Tournament #1 Co-Angler
DESCRIPTION:The tournament starts at \"safe light\" and ends with the weigh
 -in at 3:00 pm local time. You must also attend the March 27th meeting at
  6 pm. 
 
LOCATION:1705 FM 2851\, Broaddus\, TX 75929
DTSTART:20260328T110000Z
DTEND:20260328T200000Z
DTSTAMP:20251103T001123Z
ORGANIZER;CN=East Texas Lady Anglers:MAILTO:easttexasladyanglers@gmail.com
GEO:31.269893;-94.321495
X-APPLE-STRUCTURED-LOCATION;VALUE=URI;X-ADDRESS=1705 FM 2851\, Broaddus\, T
 X 75929;X-APPLE-RADIUS=72;X-TITLE=Sam Rayburn Lake - Marina TBD:31.269893;
 -94.321495
END:VEVENT
END:VCALENDAR