BEGIN:VCALENDAR
VERSION:2.0
PRODID:Events Booking
BEGIN:VEVENT
UID:69ea22ee4c130
SUMMARY:2026 Tournament #2 Boater
DESCRIPTION:The tournament starts at \"safe light\" and ends with the weigh
 -in at 3:00 pm local time. You must also attend the 6 pm meeting on the 24
 th. 
 
 
LOCATION:360 Frontier Dr\, Hemphill\, TX 75948
DTSTART:20260425T110000Z
DTEND:20260425T200000Z
DTSTAMP:20251103T025159Z
ORGANIZER;CN=East Texas Lady Anglers:MAILTO:easttexasladyanglers@gmail.com
GEO:31.454301;-93.767347
X-APPLE-STRUCTURED-LOCATION;VALUE=URI;X-ADDRESS=360 Frontier Dr\, Hemphill\
 , TX 75948;X-APPLE-RADIUS=72;X-TITLE=Toledo Bend - Marina TBD:31.454301;-9
 3.767347
END:VEVENT
END:VCALENDAR