BEGIN:VCALENDAR
VERSION:2.0
PRODID:Events Booking
BEGIN:VEVENT
UID:69ea222f270c5
SUMMARY:2026 Tournament #3 Co-Angler
DESCRIPTION:The tournament starts at \"safe light\" and ends with the weigh
 -in at 3:00 pm local time. You must also attend the 6 pm meeting on May 29
 th. 
 
LOCATION:1705 FM 2851\, Broaddus\, TX 75929
DTSTART:20260530T110000Z
DTEND:20260530T200000Z
DTSTAMP:20251103T025636Z
ORGANIZER;CN=East Texas Lady Anglers:MAILTO:easttexasladyanglers@gmail.com
GEO:31.269893;-94.321495
X-APPLE-STRUCTURED-LOCATION;VALUE=URI;X-ADDRESS=1705 FM 2851\, Broaddus\, T
 X 75929;X-APPLE-RADIUS=72;X-TITLE=Sam Rayburn Lake - Marina TBD:31.269893;
 -94.321495
END:VEVENT
END:VCALENDAR